Package: ChromSCape Version: 1.12.0 Command: rm -rf ChromSCape.buildbin-libdir && mkdir ChromSCape.buildbin-libdir && /Users/biocbuild/BBS/utils/build-universal.sh ChromSCape_1.12.0.tar.gz /Library/Frameworks/R.framework/Resources/bin/R ChromSCape.buildbin-libdir StartedAt: 2024-03-04 00:33:58 -0500 (Mon, 04 Mar 2024) EndedAt: 2024-03-04 00:35:20 -0500 (Mon, 04 Mar 2024) EllapsedTime: 81.8 seconds RetCode: 0 Status: OK PackageFile: ChromSCape_1.12.0.tgz PackageFileSize: 5.788 MiB