Package: CelliD Version: 1.10.1 Command: /home/biocbuild/bbs-3.18-bioc/R/bin/R CMD build --keep-empty-dirs --no-resave-data CelliD StartedAt: 2024-04-15 16:22:17 -0400 (Mon, 15 Apr 2024) EndedAt: 2024-04-15 16:32:02 -0400 (Mon, 15 Apr 2024) EllapsedTime: 584.9 seconds RetCode: 0 Status: OK PackageFile: CelliD_1.10.1.tar.gz PackageFileSize: 2.378 MiB