Package: CellMapper Version: 1.28.0 Command: rm -rf CellMapper.buildbin-libdir && mkdir CellMapper.buildbin-libdir && F:\biocbuild\bbs-3.18-bioc\R\bin\R.exe CMD INSTALL --build --library=CellMapper.buildbin-libdir CellMapper_1.28.0.tar.gz StartedAt: 2024-04-16 06:46:36 -0400 (Tue, 16 Apr 2024) EndedAt: 2024-04-16 06:46:50 -0400 (Tue, 16 Apr 2024) EllapsedTime: 13.8 seconds RetCode: 0 Status: OK PackageFile: CellMapper_1.28.0.zip PackageFileSize: 348.8 KiB