Package: COSNet Version: 1.36.0 Command: /Library/Frameworks/R.framework/Resources/bin/R CMD build --keep-empty-dirs --no-resave-data COSNet StartedAt: 2024-04-15 17:56:30 -0400 (Mon, 15 Apr 2024) EndedAt: 2024-04-15 17:59:47 -0400 (Mon, 15 Apr 2024) EllapsedTime: 197.2 seconds RetCode: 0 Status: OK PackageFile: COSNet_1.36.0.tar.gz PackageFileSize: 519.9 KiB