Package: CNVrd2 Version: 1.40.0 Command: /home/biocbuild/bbs-3.18-bioc/R/bin/R CMD INSTALL CNVrd2 StartedAt: 2024-04-15 15:28:04 -0400 (Mon, 15 Apr 2024) EndedAt: 2024-04-15 15:28:46 -0400 (Mon, 15 Apr 2024) EllapsedTime: 41.8 seconds RetCode: 0 Status: OK