Package: CNVrd2 Version: 1.40.0 Command: rm -rf CNVrd2.buildbin-libdir && mkdir CNVrd2.buildbin-libdir && /Users/biocbuild/BBS/utils/build-universal.sh CNVrd2_1.40.0.tar.gz /Library/Frameworks/R.framework/Resources/bin/R CNVrd2.buildbin-libdir StartedAt: 2024-03-04 00:35:04 -0500 (Mon, 04 Mar 2024) EndedAt: 2024-03-04 00:36:05 -0500 (Mon, 04 Mar 2024) EllapsedTime: 61.0 seconds RetCode: 0 Status: OK PackageFile: CNVrd2_1.40.0.tgz PackageFileSize: 2.919 MiB