Package: CNVMetrics Version: 1.6.0 Command: /Library/Frameworks/R.framework/Resources/bin/R CMD build --keep-empty-dirs --no-resave-data CNVMetrics StartedAt: 2024-03-03 16:17:54 -0500 (Sun, 03 Mar 2024) EndedAt: 2024-03-03 16:18:47 -0500 (Sun, 03 Mar 2024) EllapsedTime: 52.2 seconds RetCode: 0 Status: OK PackageFile: CNVMetrics_1.6.0.tar.gz PackageFileSize: 4.657 MiB