Package: CNORfuzzy Version: 1.44.0 Command: /home/biocbuild/R/R-4.3.1/bin/R CMD INSTALL CNORfuzzy StartedAt: 2023-11-01 20:41:36 -0000 (Wed, 01 Nov 2023) EndedAt: 2023-11-01 20:41:48 -0000 (Wed, 01 Nov 2023) EllapsedTime: 12.2 seconds RetCode: 0 Status: OK