Package: BumpyMatrix Version: 1.10.0 Command: chmod a+r BumpyMatrix -R && F:\biocbuild\bbs-3.18-bioc\R\bin\R.exe CMD build --keep-empty-dirs --no-resave-data BumpyMatrix StartedAt: 2024-04-15 17:23:16 -0400 (Mon, 15 Apr 2024) EndedAt: 2024-04-15 17:23:51 -0400 (Mon, 15 Apr 2024) EllapsedTime: 35.0 seconds RetCode: 0 Status: OK PackageFile: BumpyMatrix_1.10.0.tar.gz PackageFileSize: 318 KiB