Package: BiocPkgTools Version: 1.20.0 Command: /home/biocbuild/bbs-3.18-bioc/R/bin/R CMD build --keep-empty-dirs --no-resave-data BiocPkgTools StartedAt: 2024-04-15 16:11:12 -0400 (Mon, 15 Apr 2024) EndedAt: 2024-04-15 16:12:37 -0400 (Mon, 15 Apr 2024) EllapsedTime: 84.8 seconds RetCode: 0 Status: OK PackageFile: BiocPkgTools_1.20.0.tar.gz PackageFileSize: 1.424 MiB