Package: BioNetStat Version: 1.22.0 Command: /Library/Frameworks/R.framework/Resources/bin/R CMD build --keep-empty-dirs --no-resave-data BioNetStat StartedAt: 2024-03-03 16:02:59 -0500 (Sun, 03 Mar 2024) EndedAt: 2024-03-03 16:03:29 -0500 (Sun, 03 Mar 2024) EllapsedTime: 29.4 seconds RetCode: 0 Status: OK PackageFile: BioNetStat_1.22.0.tar.gz PackageFileSize: 2.88 MiB