Package: BioMM Version: 1.18.0 Command: /home/biocbuild/R/R-4.3.1/bin/R CMD build --keep-empty-dirs --no-resave-data BioMM StartedAt: 2023-11-01 22:44:52 -0000 (Wed, 01 Nov 2023) EndedAt: 2023-11-01 22:46:16 -0000 (Wed, 01 Nov 2023) EllapsedTime: 84.1 seconds RetCode: 1 Status: ERROR PackageFile: None PackageFileSize: NA