Package: BioCor Version: 1.26.0 Command: /home/biocbuild/bbs-3.18-bioc/R/bin/R CMD INSTALL BioCor StartedAt: 2024-04-15 15:19:08 -0400 (Mon, 15 Apr 2024) EndedAt: 2024-04-15 15:19:30 -0400 (Mon, 15 Apr 2024) EllapsedTime: 21.5 seconds RetCode: 0 Status: OK