Package: BioCor Version: 1.26.0 Command: /Library/Frameworks/R.framework/Resources/bin/R CMD build --keep-empty-dirs --no-resave-data BioCor StartedAt: 2024-03-03 16:01:16 -0500 (Sun, 03 Mar 2024) EndedAt: 2024-03-03 16:07:11 -0500 (Sun, 03 Mar 2024) EllapsedTime: 354.9 seconds RetCode: 0 Status: OK PackageFile: BioCor_1.26.0.tar.gz PackageFileSize: 1.417 MiB