Package: BindingSiteFinder Version: 2.0.0 Command: /home/biocbuild/R/R-4.3.1/bin/R CMD INSTALL BindingSiteFinder StartedAt: 2023-11-01 20:33:39 -0000 (Wed, 01 Nov 2023) EndedAt: 2023-11-01 20:34:42 -0000 (Wed, 01 Nov 2023) EllapsedTime: 62.4 seconds RetCode: 0 Status: OK