Package: BaalChIP Version: 1.28.0 Command: /home/biocbuild/bbs-3.18-bioc/R/bin/R CMD build --keep-empty-dirs --no-resave-data BaalChIP StartedAt: 2024-04-15 16:02:16 -0400 (Mon, 15 Apr 2024) EndedAt: 2024-04-15 16:04:34 -0400 (Mon, 15 Apr 2024) EllapsedTime: 138.4 seconds RetCode: 0 Status: OK PackageFile: BaalChIP_1.28.0.tar.gz PackageFileSize: 45.15 MiB