Package: BASiCStan Version: 1.4.0 Command: /home/biocbuild/R/R-4.3.1/bin/R CMD build --keep-empty-dirs --no-resave-data BASiCStan StartedAt: 2023-11-01 22:26:44 -0000 (Wed, 01 Nov 2023) EndedAt: 2023-11-01 22:33:38 -0000 (Wed, 01 Nov 2023) EllapsedTime: 414.5 seconds RetCode: 0 Status: OK PackageFile: BASiCStan_1.4.0.tar.gz PackageFileSize: 63.02 KiB