Package: AnnotationHubData Version: 1.32.1 Command: rm -rf AnnotationHubData.buildbin-libdir && mkdir AnnotationHubData.buildbin-libdir && /Users/biocbuild/BBS/utils/build-universal.sh AnnotationHubData_1.32.1.tar.gz /Library/Frameworks/R.framework/Resources/bin/R AnnotationHubData.buildbin-libdir StartedAt: 2024-03-04 00:28:52 -0500 (Mon, 04 Mar 2024) EndedAt: 2024-03-04 00:29:55 -0500 (Mon, 04 Mar 2024) EllapsedTime: 62.7 seconds RetCode: 0 Status: OK PackageFile: AnnotationHubData_1.32.1.tgz PackageFileSize: 941.5 KiB