Package: AnnotationDbi Version: 1.64.1 Command: F:\biocbuild\bbs-3.18-bioc\R\bin\R.exe CMD INSTALL AnnotationDbi StartedAt: 2024-04-15 15:51:17 -0400 (Mon, 15 Apr 2024) EndedAt: 2024-04-15 15:52:04 -0400 (Mon, 15 Apr 2024) EllapsedTime: 46.9 seconds RetCode: 0 Status: OK