Package: AnnotationDbi Version: 1.64.1 Command: /Library/Frameworks/R.framework/Resources/bin/R CMD INSTALL AnnotationDbi StartedAt: 2024-03-03 15:10:28 -0500 (Sun, 03 Mar 2024) EndedAt: 2024-03-03 15:11:03 -0500 (Sun, 03 Mar 2024) EllapsedTime: 35.8 seconds RetCode: 0 Status: OK