Package: AnnotationDbi Version: 1.64.1 Command: /Library/Frameworks/R.framework/Resources/bin/R CMD build --keep-empty-dirs --no-resave-data AnnotationDbi StartedAt: 2024-03-03 15:52:21 -0500 (Sun, 03 Mar 2024) EndedAt: 2024-03-03 15:53:35 -0500 (Sun, 03 Mar 2024) EllapsedTime: 74.5 seconds RetCode: 0 Status: OK PackageFile: AnnotationDbi_1.64.1.tar.gz PackageFileSize: 4.171 MiB