Package: ATACCoGAPS Version: 1.4.0 Command: /home/biocbuild/R/R-4.3.1/bin/R CMD build --keep-empty-dirs --no-resave-data ATACCoGAPS StartedAt: 2023-11-01 22:20:17 -0000 (Wed, 01 Nov 2023) EndedAt: 2023-11-01 22:26:46 -0000 (Wed, 01 Nov 2023) EllapsedTime: 388.5 seconds RetCode: 0 Status: OK PackageFile: ATACCoGAPS_1.4.0.tar.gz PackageFileSize: 2.818 MiB