Package: ASGSCA Version: 1.36.0 Command: /home/biocbuild/bbs-3.18-bioc/R/bin/R CMD build --keep-empty-dirs --no-resave-data ASGSCA StartedAt: 2024-04-15 16:00:20 -0400 (Mon, 15 Apr 2024) EndedAt: 2024-04-15 16:02:50 -0400 (Mon, 15 Apr 2024) EllapsedTime: 150.8 seconds RetCode: 0 Status: OK PackageFile: ASGSCA_1.36.0.tar.gz PackageFileSize: 1.179 MiB