Package: APL Version: 1.6.0 Command: /home/biocbuild/R/R-4.3.1/bin/R CMD build --keep-empty-dirs --no-resave-data APL StartedAt: 2023-11-01 22:17:41 -0000 (Wed, 01 Nov 2023) EndedAt: 2023-11-01 22:57:41 -0000 (Wed, 01 Nov 2023) EllapsedTime: 2400.1 seconds RetCode: None Status: TIMEOUT PackageFile: None PackageFileSize: NA