Package: ABSSeq Version: 1.56.0 Command: /Library/Frameworks/R.framework/Resources/bin/R CMD INSTALL ABSSeq StartedAt: 2024-03-03 15:07:00 -0500 (Sun, 03 Mar 2024) EndedAt: 2024-03-03 15:07:27 -0500 (Sun, 03 Mar 2024) EllapsedTime: 27.7 seconds RetCode: 0 Status: OK