Package: ABSSeq Version: 1.56.0 Command: /home/biocbuild/R/R-4.3.1/bin/R CMD build --keep-empty-dirs --no-resave-data ABSSeq StartedAt: 2023-11-01 22:11:43 -0000 (Wed, 01 Nov 2023) EndedAt: 2023-11-01 22:13:43 -0000 (Wed, 01 Nov 2023) EllapsedTime: 120.2 seconds RetCode: 0 Status: OK PackageFile: ABSSeq_1.56.0.tar.gz PackageFileSize: 1.068 MiB