Package: sequencing Version: 1.24.0 Command: /Library/Frameworks/R.framework/Resources/bin/R CMD build --keep-empty-dirs --no-resave-data sequencing StartedAt: 2023-10-13 11:04:58 -0400 (Fri, 13 Oct 2023) EndedAt: 2023-10-13 11:07:04 -0400 (Fri, 13 Oct 2023) EllapsedTime: 126.1 seconds RetCode: 0 Status: OK PackageFile: sequencing_1.24.0.tar.gz PackageFileSize: 403.6 KiB