Package: rnaseqGene Version: 1.24.0 Command: /Library/Frameworks/R.framework/Resources/bin/R CMD INSTALL rnaseqGene StartedAt: 2023-10-13 11:00:24 -0400 (Fri, 13 Oct 2023) EndedAt: 2023-10-13 11:01:27 -0400 (Fri, 13 Oct 2023) EllapsedTime: 63.0 seconds RetCode: 0 Status: OK