Package: rnaseqDTU Version: 1.20.0 Command: /home/biocbuild/bbs-3.17-bioc/R/bin/R CMD build --keep-empty-dirs --no-resave-data rnaseqDTU StartedAt: 2023-10-13 08:02:58 -0400 (Fri, 13 Oct 2023) EndedAt: 2023-10-13 08:05:17 -0400 (Fri, 13 Oct 2023) EllapsedTime: 138.6 seconds RetCode: 0 Status: OK PackageFile: rnaseqDTU_1.20.0.tar.gz PackageFileSize: 8.697 MiB