Package: RnaSeqGeneEdgeRQL Version: 1.24.0 Command: F:\biocbuild\bbs-3.17-bioc\R\bin\R.exe CMD INSTALL RnaSeqGeneEdgeRQL StartedAt: 2023-10-13 11:01:49 -0400 (Fri, 13 Oct 2023) EndedAt: 2023-10-13 11:02:00 -0400 (Fri, 13 Oct 2023) EllapsedTime: 11.2 seconds RetCode: 0 Status: OK