Package: RNAseq123 Version: 1.24.0 Command: /home/biocbuild/bbs-3.17-bioc/R/bin/R CMD INSTALL RNAseq123 StartedAt: 2023-10-13 08:00:28 -0400 (Fri, 13 Oct 2023) EndedAt: 2023-10-13 08:00:57 -0400 (Fri, 13 Oct 2023) EllapsedTime: 28.9 seconds RetCode: 0 Status: OK