Package: RNAseq123 Version: 1.24.0 Command: /home/biocbuild/bbs-3.17-bioc/R/bin/R CMD build --keep-empty-dirs --no-resave-data RNAseq123 StartedAt: 2023-10-13 08:02:56 -0400 (Fri, 13 Oct 2023) EndedAt: 2023-10-13 08:04:34 -0400 (Fri, 13 Oct 2023) EllapsedTime: 98.5 seconds RetCode: 0 Status: OK PackageFile: RNAseq123_1.24.0.tar.gz PackageFileSize: 6.714 MiB