Package: yeastRNASeq Version: 0.38.0 Command: /home/biocbuild/bbs-3.17-bioc/R/bin/R CMD INSTALL yeastRNASeq StartedAt: 2023-10-12 10:00:59 -0400 (Thu, 12 Oct 2023) EndedAt: 2023-10-12 10:01:03 -0400 (Thu, 12 Oct 2023) EllapsedTime: 3.6 seconds RetCode: 0 Status: OK