git_url: https://git.bioconductor.org/packages/tuberculosis git_branch: RELEASE_3_17 git_last_commit: f8ba17b git_last_commit_date: 2023-04-25 10:50:53 -0400 (Tue, 25 Apr 2023) Package: tuberculosis Version: 1.6.0 Maintainer: Lucas Schiffer MaintainerEmail: schiffer.lucas at gmail.com