Package: tartare Version: 1.14.0 Command: /home/biocbuild/bbs-3.17-bioc/R/bin/R CMD INSTALL tartare StartedAt: 2023-10-12 10:04:48 -0400 (Thu, 12 Oct 2023) EndedAt: 2023-10-12 10:05:02 -0400 (Thu, 12 Oct 2023) EllapsedTime: 14.7 seconds RetCode: 0 Status: OK