Package: scTHI.data Version: 1.12.0 Command: /home/biocbuild/bbs-3.17-bioc/R/bin/R CMD INSTALL scTHI.data StartedAt: 2023-10-12 10:00:21 -0400 (Thu, 12 Oct 2023) EndedAt: 2023-10-12 10:00:28 -0400 (Thu, 12 Oct 2023) EllapsedTime: 7.3 seconds RetCode: 0 Status: OK