Package: scTHI.data Version: 1.12.0 Command: /home/biocbuild/bbs-3.17-bioc/R/bin/R CMD build --keep-empty-dirs --no-resave-data scTHI.data StartedAt: 2023-10-12 10:50:14 -0400 (Thu, 12 Oct 2023) EndedAt: 2023-10-12 10:50:22 -0400 (Thu, 12 Oct 2023) EllapsedTime: 8.4 seconds RetCode: 0 Status: OK PackageFile: scTHI.data_1.12.0.tar.gz PackageFileSize: 24.17 MiB