Package: rheumaticConditionWOLLBOLD Version: 1.38.0 Command: /home/biocbuild/bbs-3.17-bioc/R/bin/R CMD check --install=check:rheumaticConditionWOLLBOLD.install-out.txt --library=/home/biocbuild/bbs-3.17-bioc/R/site-library --timings rheumaticConditionWOLLBOLD_1.38.0.tar.gz StartedAt: 2023-10-12 11:55:17 -0400 (Thu, 12 Oct 2023) EndedAt: 2023-10-12 11:55:36 -0400 (Thu, 12 Oct 2023) EllapsedTime: 18.6 seconds RetCode: 0 Status: OK CheckDir: rheumaticConditionWOLLBOLD.Rcheck Warnings: 0