Package: oct4 Version: 1.16.0 Command: /home/biocbuild/bbs-3.17-bioc/R/bin/R CMD check --install=check:oct4.install-out.txt --library=/home/biocbuild/bbs-3.17-bioc/R/site-library --timings oct4_1.16.0.tar.gz StartedAt: 2023-10-12 11:48:18 -0400 (Thu, 12 Oct 2023) EndedAt: 2023-10-12 11:48:36 -0400 (Thu, 12 Oct 2023) EllapsedTime: 18.3 seconds RetCode: 0 Status: OK CheckDir: oct4.Rcheck Warnings: 0