Package: muscData Version: 1.14.0 Command: /home/biocbuild/bbs-3.17-bioc/R/bin/R CMD INSTALL muscData StartedAt: 2023-10-12 10:07:59 -0400 (Thu, 12 Oct 2023) EndedAt: 2023-10-12 10:08:28 -0400 (Thu, 12 Oct 2023) EllapsedTime: 29.2 seconds RetCode: 0 Status: OK