Package: msdata Version: 0.40.0 Command: /home/biocbuild/bbs-3.17-bioc/R/bin/R CMD build --keep-empty-dirs --no-resave-data msdata StartedAt: 2023-10-12 10:41:18 -0400 (Thu, 12 Oct 2023) EndedAt: 2023-10-12 10:42:14 -0400 (Thu, 12 Oct 2023) EllapsedTime: 56.6 seconds RetCode: 0 Status: OK PackageFile: msdata_0.40.0.tar.gz PackageFileSize: 426.4 MiB