Package: miRcompData Version: 1.30.0 Command: /home/biocbuild/bbs-3.17-bioc/R/bin/R CMD check --install=check:miRcompData.install-out.txt --library=/home/biocbuild/bbs-3.17-bioc/R/site-library --timings miRcompData_1.30.0.tar.gz StartedAt: 2023-10-12 11:42:43 -0400 (Thu, 12 Oct 2023) EndedAt: 2023-10-12 11:43:08 -0400 (Thu, 12 Oct 2023) EllapsedTime: 24.3 seconds RetCode: 0 Status: OK CheckDir: miRcompData.Rcheck Warnings: 0