Package: miRNATarget Version: 1.38.0 Command: /home/biocbuild/bbs-3.17-bioc/R/bin/R CMD build --keep-empty-dirs --no-resave-data miRNATarget StartedAt: 2023-10-12 10:40:48 -0400 (Thu, 12 Oct 2023) EndedAt: 2023-10-12 10:40:59 -0400 (Thu, 12 Oct 2023) EllapsedTime: 11.3 seconds RetCode: 0 Status: OK PackageFile: miRNATarget_1.38.0.tar.gz PackageFileSize: 51.86 MiB