Package: marinerData Version: 1.0.0 Command: /home/biocbuild/bbs-3.17-bioc/R/bin/R CMD INSTALL marinerData StartedAt: 2023-10-12 10:04:10 -0400 (Thu, 12 Oct 2023) EndedAt: 2023-10-12 10:04:28 -0400 (Thu, 12 Oct 2023) EllapsedTime: 17.7 seconds RetCode: 0 Status: OK