Package: marinerData Version: 1.0.0 Command: /home/biocbuild/bbs-3.17-bioc/R/bin/R CMD build --keep-empty-dirs --no-resave-data marinerData StartedAt: 2023-10-12 10:38:00 -0400 (Thu, 12 Oct 2023) EndedAt: 2023-10-12 10:38:51 -0400 (Thu, 12 Oct 2023) EllapsedTime: 51.3 seconds RetCode: 0 Status: OK PackageFile: marinerData_1.0.0.tar.gz PackageFileSize: 217.8 KiB