Package: macrophage Version: 1.16.0 Command: /home/biocbuild/bbs-3.17-bioc/R/bin/R CMD build --keep-empty-dirs --no-resave-data macrophage StartedAt: 2023-10-12 10:37:12 -0400 (Thu, 12 Oct 2023) EndedAt: 2023-10-12 10:37:52 -0400 (Thu, 12 Oct 2023) EllapsedTime: 40.5 seconds RetCode: 0 Status: OK PackageFile: macrophage_1.16.0.tar.gz PackageFileSize: 511.4 MiB