Package: hapmapsnp6 Version: 1.42.0 Command: /home/biocbuild/bbs-3.17-bioc/R/bin/R CMD check --install=check:hapmapsnp6.install-out.txt --library=/home/biocbuild/bbs-3.17-bioc/R/site-library --timings hapmapsnp6_1.42.0.tar.gz StartedAt: 2023-10-12 11:27:48 -0400 (Thu, 12 Oct 2023) EndedAt: 2023-10-12 11:30:01 -0400 (Thu, 12 Oct 2023) EllapsedTime: 133.1 seconds RetCode: 0 Status: OK CheckDir: hapmapsnp6.Rcheck Warnings: 0