git_url: https://git.bioconductor.org/packages/golubEsets git_branch: RELEASE_3_17 git_last_commit: 589ef63 git_last_commit_date: 2023-04-25 09:49:34 -0400 (Tue, 25 Apr 2023) Package: golubEsets Version: 1.42.0 Maintainer: Vince Carey MaintainerEmail: stvjc at channing.harvard.edu