Package: fission Version: 1.20.0 Command: /home/biocbuild/bbs-3.17-bioc/R/bin/R CMD INSTALL fission StartedAt: 2023-10-12 10:06:17 -0400 (Thu, 12 Oct 2023) EndedAt: 2023-10-12 10:06:31 -0400 (Thu, 12 Oct 2023) EllapsedTime: 14.1 seconds RetCode: 0 Status: OK