Package: etec16s Version: 1.28.0 Command: /home/biocbuild/bbs-3.17-bioc/R/bin/R CMD build --keep-empty-dirs --no-resave-data etec16s StartedAt: 2023-10-12 10:25:28 -0400 (Thu, 12 Oct 2023) EndedAt: 2023-10-12 10:25:37 -0400 (Thu, 12 Oct 2023) EllapsedTime: 9.4 seconds RetCode: 0 Status: OK PackageFile: etec16s_1.28.0.tar.gz PackageFileSize: 234.7 KiB